BEGIN:VCALENDAR
VERSION:2.0
PRODID:-//KYDHA - ECPv6.15.17.1//NONSGML v1.0//EN
CALSCALE:GREGORIAN
METHOD:PUBLISH
X-ORIGINAL-URL:https://kydha.org
X-WR-CALDESC:Events for KYDHA
REFRESH-INTERVAL;VALUE=DURATION:PT1H
X-Robots-Tag:noindex
X-PUBLISHED-TTL:PT1H
BEGIN:VTIMEZONE
TZID:UTC
BEGIN:STANDARD
TZOFFSETFROM:+0000
TZOFFSETTO:+0000
TZNAME:UTC
DTSTART:20220101T000000
END:STANDARD
END:VTIMEZONE
BEGIN:VTIMEZONE
TZID:America/Kentucky/Louisville
BEGIN:DAYLIGHT
TZOFFSETFROM:-0500
TZOFFSETTO:-0400
TZNAME:EDT
DTSTART:20230312T070000
END:DAYLIGHT
BEGIN:STANDARD
TZOFFSETFROM:-0400
TZOFFSETTO:-0500
TZNAME:EST
DTSTART:20231105T060000
END:STANDARD
BEGIN:DAYLIGHT
TZOFFSETFROM:-0500
TZOFFSETTO:-0400
TZNAME:EDT
DTSTART:20240310T070000
END:DAYLIGHT
BEGIN:STANDARD
TZOFFSETFROM:-0400
TZOFFSETTO:-0500
TZNAME:EST
DTSTART:20241103T060000
END:STANDARD
BEGIN:DAYLIGHT
TZOFFSETFROM:-0500
TZOFFSETTO:-0400
TZNAME:EDT
DTSTART:20250309T070000
END:DAYLIGHT
BEGIN:STANDARD
TZOFFSETFROM:-0400
TZOFFSETTO:-0500
TZNAME:EST
DTSTART:20251102T060000
END:STANDARD
BEGIN:DAYLIGHT
TZOFFSETFROM:-0500
TZOFFSETTO:-0400
TZNAME:EDT
DTSTART:20260308T070000
END:DAYLIGHT
BEGIN:STANDARD
TZOFFSETFROM:-0400
TZOFFSETTO:-0500
TZNAME:EST
DTSTART:20261101T060000
END:STANDARD
BEGIN:DAYLIGHT
TZOFFSETFROM:-0500
TZOFFSETTO:-0400
TZNAME:EDT
DTSTART:20270314T070000
END:DAYLIGHT
BEGIN:STANDARD
TZOFFSETFROM:-0400
TZOFFSETTO:-0500
TZNAME:EST
DTSTART:20271107T060000
END:STANDARD
BEGIN:DAYLIGHT
TZOFFSETFROM:-0500
TZOFFSETTO:-0400
TZNAME:EDT
DTSTART:20280312T070000
END:DAYLIGHT
BEGIN:STANDARD
TZOFFSETFROM:-0400
TZOFFSETTO:-0500
TZNAME:EST
DTSTART:20281105T060000
END:STANDARD
END:VTIMEZONE
BEGIN:VEVENT
DTSTART;TZID=UTC:20230922T090000
DTEND;TZID=UTC:20230922T170000
DTSTAMP:20260422T223923
CREATED:20230208T150247Z
LAST-MODIFIED:20230208T150247Z
UID:3798-1695373200-1695402000@kydha.org
SUMMARY:CE Course
DESCRIPTION:9:00 – 5:00 pm\nCelebration of Learning\, courses TBD
URL:https://kydha.org/event/ce-course-4/
CATEGORIES:Eastern
END:VEVENT
BEGIN:VEVENT
DTSTART;TZID=UTC:20231116T080000
DTEND;TZID=UTC:20231116T170000
DTSTAMP:20260422T223923
CREATED:20230208T150317Z
LAST-MODIFIED:20230208T150347Z
UID:3800-1700121600-1700154000@kydha.org
SUMMARY:Zoom CE Course
DESCRIPTION:6:00 – 8:00 pm\nMedical Emergencies\, Speaker Dr. Rebecca Mercke
URL:https://kydha.org/event/zoom-ce-course-4/
CATEGORIES:KYDHA
END:VEVENT
BEGIN:VEVENT
DTSTART;TZID=UTC:20240301T000000
DTEND;TZID=UTC:20240302T000000
DTSTAMP:20260422T223923
CREATED:20230530T130224Z
LAST-MODIFIED:20240202T123423Z
UID:3850-1709251200-1709337600@kydha.org
SUMMARY:Save the Date
DESCRIPTION:2024 KYDHA Advancing Lifelong Learning\nFinal agenda will be posted soon but this annual session will offer a full day student symposium and a full day and a half of continuing education courses. Friday evening will also offer a Hygiene Happy Hour\, with lite appetizers and cocktails. Make plans to attend this great opportunity for education\, networking and making memories with fellow hygienists. \nRegistration Link: https://cvent.me/NlxlRM?locale=en
URL:https://kydha.org/event/save-the-date/
LOCATION:Hilton Garden Inn Louisville Airport
CATEGORIES:KYDHA
END:VEVENT
BEGIN:VEVENT
DTSTART;TZID=UTC:20240320T080000
DTEND;TZID=UTC:20240320T170000
DTSTAMP:20260422T223923
CREATED:20240320T113344Z
LAST-MODIFIED:20240320T122136Z
UID:3873-1710921600-1710954000@kydha.org
SUMMARY:2024 KYDHA Day of Learning
DESCRIPTION:You are invited to the 2024 KYDHA Day of Learning on May 17\, 2024\, this will be held at Knicely Convention Center in Bowling Green KY.   Early Registration prior to May 12: Members $25.00\, Non-Member $50.00\, Students $10.00.  Registration after May 12 will increase to Members $50.00\, Non-Member $100.00\, Students $20.00.  Individual course fees will be applied when registering. You are NOT registered until you fully pay at the end! \nPlease click here to register:  https://cvent.me/l3kWOP
URL:https://kydha.org/event/2024-kydha-day-of-learning/
CATEGORIES:KYDHA,Western
END:VEVENT
BEGIN:VEVENT
DTSTART;TZID=America/Kentucky/Louisville:20240425T190000
DTEND;TZID=America/Kentucky/Louisville:20240425T200000
DTSTAMP:20260422T223923
CREATED:20240327T103735Z
LAST-MODIFIED:20240327T103735Z
UID:3962-1714071600-1714075200@kydha.org
SUMMARY:Temping as a Dental Hygienist
DESCRIPTION:Thursday April 25 @ 7:00 pm\, est \nVia Zoom \nhttps://cvent.me/kZzYRN
URL:https://kydha.org/event/temping-as-a-dental-hygienist/
CATEGORIES:Eastern,KYDHA
END:VEVENT
BEGIN:VEVENT
DTSTART;TZID=UTC:20240426T080000
DTEND;TZID=UTC:20240426T170000
DTSTAMP:20260422T223923
CREATED:20240426T112457Z
LAST-MODIFIED:20240426T112457Z
UID:3965-1714118400-1714150800@kydha.org
SUMMARY:Medical Emergencies for the Dental Hygienist - ZOOM
DESCRIPTION:Medical Emergencies for the Dental Hygienist via ZOOM.  Members $60.00 NonMembers $80.00 \nhttps://cvent.me/75VKdl
URL:https://kydha.org/event/medical-emergencies-for-the-dental-hygienist-zoom/
CATEGORIES:KYDHA
END:VEVENT
BEGIN:VEVENT
DTSTART;TZID=America/Kentucky/Louisville:20240920T080000
DTEND;TZID=America/Kentucky/Louisville:20240920T160000
DTSTAMP:20260422T223923
CREATED:20240805T103356Z
LAST-MODIFIED:20240805T103435Z
UID:3970-1726819200-1726848000@kydha.org
SUMMARY:Celebration of Learning
DESCRIPTION:Celebration of Learning \nFriday\, September 20\, 2024 \nBCTC Cooper Campus \nLexington\, KY \nhttps://cvent.me/d0G50m
URL:https://kydha.org/event/celebration-of-learning/
CATEGORIES:Eastern,KYDHA
END:VEVENT
BEGIN:VEVENT
DTSTART;TZID=America/Kentucky/Louisville:20241017T180000
DTEND;TZID=America/Kentucky/Louisville:20241017T190000
DTSTAMP:20260422T223923
CREATED:20240920T170107Z
LAST-MODIFIED:20240920T170447Z
UID:3973-1729188000-1729191600@kydha.org
SUMMARY:How to Protect your Property and Plan a Great Retirement
DESCRIPTION:Thursday October 17 @ 6:00 pm est \n“How to Protect your Property and Plan a Great Retirement” \nClick the link below and register\, you are NOT registered until you go through the registration and pay at the end. \nhttps://cvent.me/x0nDan
URL:https://kydha.org/event/how-to-protect-your-property-and-plan-a-great-retirement/
CATEGORIES:KYDHA
END:VEVENT
BEGIN:VEVENT
DTSTART;TZID=America/Kentucky/Louisville:20241121T180000
DTEND;TZID=America/Kentucky/Louisville:20241121T190000
DTSTAMP:20260422T223923
CREATED:20240920T170313Z
LAST-MODIFIED:20240920T170353Z
UID:3975-1732212000-1732215600@kydha.org
SUMMARY:Medical Emergencies for the Dental Professional
DESCRIPTION:Thursday November 21 @ 6:00 pm est \n“Medical Emergencies for the Dental Professional” \nClick the link below and register\, you are NOT registered until you go through the registration and pay at the end. \nhttps://cvent.me/3VkbZ7
URL:https://kydha.org/event/medical-emergencies-for-the-dental-professional/
CATEGORIES:KYDHA
END:VEVENT
BEGIN:VEVENT
DTSTART;TZID=America/Kentucky/Louisville:20250424T180000
DTEND;TZID=America/Kentucky/Louisville:20250424T200000
DTSTAMP:20260422T223923
CREATED:20250409T115254Z
LAST-MODIFIED:20250409T115254Z
UID:3981-1745517600-1745524800@kydha.org
SUMMARY:The Complex Nature of Oral Health & Its Association to Alzheimer's Disease
DESCRIPTION:Course Description:   Explore the connection between oral health and Alzheimer’s Disease\, focusing on how oral health impacts cognitive health. This course covers fundamental concepts\, the biological links\, and recent research findings. Learn preventive strategies and how optimal oral health impacts will reduce Alzheimer’s Disease risk. This course includes practical insights for integrating oral health into the prevention of other systematic diseases such as Alzheimer’s Disease.  \n  \nClick here to register:  https://cvent.me/Oxl9M8
URL:https://kydha.org/event/the-complex-nature-of-oral-health-its-association-to-alzheimers-disease/
CATEGORIES:Eastern,KYDHA
END:VEVENT
BEGIN:VEVENT
DTSTART;TZID=America/Kentucky/Louisville:20250522T180000
DTEND;TZID=America/Kentucky/Louisville:20250522T210000
DTSTAMP:20260422T223923
CREATED:20250409T115450Z
LAST-MODIFIED:20250409T115450Z
UID:3983-1747936800-1747947600@kydha.org
SUMMARY:Medical Emergencies for the Dental Hygienist
DESCRIPTION:Course Description: The dental team is presented with the challenges of providing dental treatment to the aging population and the medically compromised patient which increases the risk for encountering medical emergencies.  When an emergency occurs\, it is vital that all members of the dental team are prepared to respond effectively.  This course will discuss the most common medical emergencies encountered in the dental office\, the equipment every dental office should have\, and the team approach to managing an emergency in the dental office.  KYBOD Course Approval:  KBD0176 \n  \nClick here to register:  https://cvent.me/gN41Qw
URL:https://kydha.org/event/medical-emergencies-for-the-dental-hygienist/
CATEGORIES:KYDHA
END:VEVENT
BEGIN:VEVENT
DTSTART;TZID=America/Kentucky/Louisville:20250619T173000
DTEND;TZID=America/Kentucky/Louisville:20250619T183000
DTSTAMP:20260422T223923
CREATED:20250528T114845Z
LAST-MODIFIED:20250528T114845Z
UID:3987-1750354200-1750357800@kydha.org
SUMMARY:RDH Career Forum - Great Conversations
DESCRIPTION:> Date: Thursday\, June 19th\, 2025 at 5:30pm\n> Location: Rooster’s\, 10430 Shelbyville Road\, Louisville\, KY 40223 \n> Course Description: After dinner we will have a short business meeting. We will be hearing from two KY Hygienists who took a path during their careers that led to non-profit and educational fields. They will provide insight into moments of enlightenment\, decision making\, professional development\, having to navigate change and where they are today.\n                                       \n> Learning Objectives: Identifying core competencies needed to create a roadmap for professional development; applying skills in real-world context and how to support a culture of lifelong learning. \n> Speaker Name and Bio: \n> 1) Lisa Johnston Arthur\, RDH  graduated from Lexington Technical College\, past chair of the Bluegrass Component\, Past President of the KYDHA and currently serves on the Kentucky Board of Dentistry\n                                         \n 2) Heather Cheek\, CDA\, B.Ed\, AS\, RDH\, M.Ed. graduated EKU in Education\, and Big Sandy Community and Technical College for her Dental Hygiene\, received her Masters in Education from EKU and serves as the BSCTC    Dental Hygiene\,      Community Dental Health Coordinator/Instructor. \n> Cost for course for a member: $20 and nonmember $30\, Dinner on your own.
URL:https://kydha.org/event/rdh-career-forum-great-conversations/
CATEGORIES:KYDHA,Louisville
END:VEVENT
BEGIN:VEVENT
DTSTART;TZID=UTC:20250919T080000
DTEND;TZID=UTC:20250919T170000
DTSTAMP:20260422T223923
CREATED:20250528T115153Z
LAST-MODIFIED:20250528T115905Z
UID:3991-1758268800-1758301200@kydha.org
SUMMARY:Celebration of Learning
DESCRIPTION:SAVE THE DATE!!!\n \nCelebration of Learning\nSeptember 19\, 2025\nLocation and Courses to come soon
URL:https://kydha.org/event/celebration-of-learning-2/
CATEGORIES:Eastern,KYDHA
END:VEVENT
BEGIN:VEVENT
DTSTART;TZID=America/Kentucky/Louisville:20260227T080000
DTEND;TZID=America/Kentucky/Louisville:20260227T170000
DTSTAMP:20260422T223923
CREATED:20250528T115033Z
LAST-MODIFIED:20260113T140726Z
UID:3989-1772179200-1772211600@kydha.org
SUMMARY:KYDHA 2026 Advancing Lifelong Learning Conference
DESCRIPTION:The Kentucky Dental Hygienists’ Association (KYDHA) invites you to join us at the 2026 KYDHA Advancing Lifelong Learning Conference.  Enjoy our annual conference at a familiar location Hilton Garden Inn/Airport\, Louisville\, KY.  Take advantage of the new formatted ONE day event!!\n \nDental Hygienists’ and other professionals are welcome and encouraged to attend.\n \n\nREGISTRATION FEES & DEADLINES\n \nEarly Bird Registration by Dec. 31\, 2025                                                      \n\nMembers – Free\nNon-Members – $25.00\nStudents – Free\n\nAdvance Registration Jan. 1 – Feb. 20\, 2026\n\nMembers – $ 25.00\nNon-Members – $50.00\nStudents – Free\n\nOn-Site Registration after Feb. 20\, 2026\n\nMembers – $ 50.00\nNon-Members – $100.00\nStudents – Free\n\n\n \n\nFebruary 27\, 2026\nHilton Garden Inn Louisville Airport\nKYDHA 2026 Advancing Lifelong Learning Conference\n\nClick to register >> https://cvent.me/ydRPVm\n\n \n\nClick the link below for the block of rooms\nKY Dental Hygienist Association
URL:https://kydha.org/event/kydha-2026-advancing-lifelong-learning-conference/
CATEGORIES:Eastern,KYDHA,Louisville,Western
END:VEVENT
BEGIN:VEVENT
DTSTART;TZID=America/Kentucky/Louisville:20260422T183000
DTEND;TZID=America/Kentucky/Louisville:20260422T193000
DTSTAMP:20260422T223923
CREATED:20260323T154144Z
LAST-MODIFIED:20260323T154144Z
UID:4024-1776882600-1776886200@kydha.org
SUMMARY:Innovative Approaches to Early Caries Management
DESCRIPTION:April 22\, 2026 at 6:30 pm est via Zoom \nThis 1 hour continuing education course examines current and emerging methodologies for the detection and noninvasive management of early dental caries. Participants will review recent evidence supporting minimally invasive interventions in comparison to traditional methodologies and discuss clinical protocols that preserve natural tooth structure while improving long-term outcomes. \nCURODONT™ REPAIR FLUORIDE PLUS \n\nNo drilling or injection needed\nEasy\, pain-free and fast application  \nFor permanent and primary teeth  \nSuitable for all patients\, including children\nCreated and developed by dentists\nNo pain\nNo drill\nThe future of oral health\n\n \nhttps://cvent.me/7oy9dl
URL:https://kydha.org/event/innovative-approaches-to-early-caries-management/
CATEGORIES:KYDHA
END:VEVENT
BEGIN:VEVENT
DTSTART;TZID=America/Kentucky/Louisville:20260521T180000
DTEND;TZID=America/Kentucky/Louisville:20260521T190000
DTSTAMP:20260422T223923
CREATED:20260323T154326Z
LAST-MODIFIED:20260323T154326Z
UID:4026-1779386400-1779390000@kydha.org
SUMMARY:Medical Emergencies for the Dental Hygienist
DESCRIPTION:May 21\, 2026 at 6:00 pm est\n \nMedical Emergencies for the Dental Hygienist via ZOOM! This course meets the Kentucky Board of Dentistry requirements for Dental Hygiene General Supervision license. The course is limited to the first 100 registrants and is a 3 hour course.\n \nhttps://cvent.me/1o54M9
URL:https://kydha.org/event/medical-emergencies-for-the-dental-hygienist-2/
CATEGORIES:KYDHA
END:VEVENT
BEGIN:VEVENT
DTSTART;TZID=America/Kentucky/Louisville:20260523T090000
DTEND;TZID=America/Kentucky/Louisville:20260523T100000
DTSTAMP:20260422T223923
CREATED:20260324T152749Z
LAST-MODIFIED:20260324T152749Z
UID:4138-1779526800-1779530400@kydha.org
SUMMARY:May 23\, 2026 - Board Meeting
DESCRIPTION:Saturday\, May 23\, 2026 at 9:00 am est (ZOOM or Teams)
URL:https://kydha.org/event/may-23-2026-board-meeting/
CATEGORIES:KYDHA
END:VEVENT
BEGIN:VEVENT
DTSTART;TZID=America/Kentucky/Louisville:20260822T090000
DTEND;TZID=America/Kentucky/Louisville:20260822T100000
DTSTAMP:20260422T223923
CREATED:20260324T152840Z
LAST-MODIFIED:20260324T152840Z
UID:4140-1787389200-1787392800@kydha.org
SUMMARY:August 22\, 2026 - Board Meeting
DESCRIPTION:Saturday\, August 22\, 2026 at 9:00 am est (ZOOM or Teams)
URL:https://kydha.org/event/august-22-2026-board-meeting/
CATEGORIES:KYDHA
END:VEVENT
BEGIN:VEVENT
DTSTART;TZID=America/Kentucky/Louisville:20261121T090000
DTEND;TZID=America/Kentucky/Louisville:20261121T100000
DTSTAMP:20260422T223923
CREATED:20260324T152941Z
LAST-MODIFIED:20260324T152941Z
UID:4142-1795251600-1795255200@kydha.org
SUMMARY:November 21\, 2026 - Board Meeting
DESCRIPTION:Saturday\, November 21\, 2026 at 9:00 am est (ZOOM or Teams)
URL:https://kydha.org/event/november-21-2026-board-meeting/
CATEGORIES:KYDHA
END:VEVENT
BEGIN:VEVENT
DTSTART;TZID=America/Kentucky/Louisville:20270116T090000
DTEND;TZID=America/Kentucky/Louisville:20270116T100000
DTSTAMP:20260422T223923
CREATED:20260324T153027Z
LAST-MODIFIED:20260324T153027Z
UID:4144-1800090000-1800093600@kydha.org
SUMMARY:January 16\, 2027 - Board Meeting
DESCRIPTION:Saturday\, January 16\, 2027 at 9:00 am est (ZOOM or Teams)
URL:https://kydha.org/event/january-16-2027-board-meeting/
CATEGORIES:KYDHA
END:VEVENT
BEGIN:VEVENT
DTSTART;TZID=America/Kentucky/Louisville:20270324T090000
DTEND;TZID=America/Kentucky/Louisville:20270324T100000
DTSTAMP:20260422T223923
CREATED:20260324T153107Z
LAST-MODIFIED:20260324T154202Z
UID:4146-1805878800-1805882400@kydha.org
SUMMARY:March 4\, 2027 - Board Meeting
DESCRIPTION:Thursday\, March 4\, 2027 at 7:00 pm est in person
URL:https://kydha.org/event/march-4-2027-board-meeting/
CATEGORIES:KYDHA
END:VEVENT
END:VCALENDAR