BEGIN:VCALENDAR
VERSION:2.0
PRODID:-//KYDHA - ECPv6.15.17.1//NONSGML v1.0//EN
CALSCALE:GREGORIAN
METHOD:PUBLISH
X-WR-CALNAME:KYDHA
X-ORIGINAL-URL:https://kydha.org
X-WR-CALDESC:Events for KYDHA
REFRESH-INTERVAL;VALUE=DURATION:PT1H
X-Robots-Tag:noindex
X-PUBLISHED-TTL:PT1H
BEGIN:VTIMEZONE
TZID:America/Kentucky/Louisville
BEGIN:DAYLIGHT
TZOFFSETFROM:-0500
TZOFFSETTO:-0400
TZNAME:EDT
DTSTART:20250309T070000
END:DAYLIGHT
BEGIN:STANDARD
TZOFFSETFROM:-0400
TZOFFSETTO:-0500
TZNAME:EST
DTSTART:20251102T060000
END:STANDARD
BEGIN:DAYLIGHT
TZOFFSETFROM:-0500
TZOFFSETTO:-0400
TZNAME:EDT
DTSTART:20260308T070000
END:DAYLIGHT
BEGIN:STANDARD
TZOFFSETFROM:-0400
TZOFFSETTO:-0500
TZNAME:EST
DTSTART:20261101T060000
END:STANDARD
BEGIN:DAYLIGHT
TZOFFSETFROM:-0500
TZOFFSETTO:-0400
TZNAME:EDT
DTSTART:20270314T070000
END:DAYLIGHT
BEGIN:STANDARD
TZOFFSETFROM:-0400
TZOFFSETTO:-0500
TZNAME:EST
DTSTART:20271107T060000
END:STANDARD
BEGIN:DAYLIGHT
TZOFFSETFROM:-0500
TZOFFSETTO:-0400
TZNAME:EDT
DTSTART:20280312T070000
END:DAYLIGHT
BEGIN:STANDARD
TZOFFSETFROM:-0400
TZOFFSETTO:-0500
TZNAME:EST
DTSTART:20281105T060000
END:STANDARD
END:VTIMEZONE
BEGIN:VEVENT
DTSTART;TZID=America/Kentucky/Louisville:20260227T080000
DTEND;TZID=America/Kentucky/Louisville:20260227T170000
DTSTAMP:20260421T000927
CREATED:20250528T115033Z
LAST-MODIFIED:20260113T140726Z
UID:3989-1772179200-1772211600@kydha.org
SUMMARY:KYDHA 2026 Advancing Lifelong Learning Conference
DESCRIPTION:The Kentucky Dental Hygienists’ Association (KYDHA) invites you to join us at the 2026 KYDHA Advancing Lifelong Learning Conference.  Enjoy our annual conference at a familiar location Hilton Garden Inn/Airport\, Louisville\, KY.  Take advantage of the new formatted ONE day event!!\n \nDental Hygienists’ and other professionals are welcome and encouraged to attend.\n \n\nREGISTRATION FEES & DEADLINES\n \nEarly Bird Registration by Dec. 31\, 2025                                                      \n\nMembers – Free\nNon-Members – $25.00\nStudents – Free\n\nAdvance Registration Jan. 1 – Feb. 20\, 2026\n\nMembers – $ 25.00\nNon-Members – $50.00\nStudents – Free\n\nOn-Site Registration after Feb. 20\, 2026\n\nMembers – $ 50.00\nNon-Members – $100.00\nStudents – Free\n\n\n \n\nFebruary 27\, 2026\nHilton Garden Inn Louisville Airport\nKYDHA 2026 Advancing Lifelong Learning Conference\n\nClick to register >> https://cvent.me/ydRPVm\n\n \n\nClick the link below for the block of rooms\nKY Dental Hygienist Association
URL:https://kydha.org/event/kydha-2026-advancing-lifelong-learning-conference/
CATEGORIES:Eastern,KYDHA,Louisville,Western
END:VEVENT
BEGIN:VEVENT
DTSTART;TZID=America/Kentucky/Louisville:20260422T183000
DTEND;TZID=America/Kentucky/Louisville:20260422T193000
DTSTAMP:20260421T000927
CREATED:20260323T154144Z
LAST-MODIFIED:20260323T154144Z
UID:4024-1776882600-1776886200@kydha.org
SUMMARY:Innovative Approaches to Early Caries Management
DESCRIPTION:April 22\, 2026 at 6:30 pm est via Zoom \nThis 1 hour continuing education course examines current and emerging methodologies for the detection and noninvasive management of early dental caries. Participants will review recent evidence supporting minimally invasive interventions in comparison to traditional methodologies and discuss clinical protocols that preserve natural tooth structure while improving long-term outcomes. \nCURODONT™ REPAIR FLUORIDE PLUS \n\nNo drilling or injection needed\nEasy\, pain-free and fast application  \nFor permanent and primary teeth  \nSuitable for all patients\, including children\nCreated and developed by dentists\nNo pain\nNo drill\nThe future of oral health\n\n \nhttps://cvent.me/7oy9dl
URL:https://kydha.org/event/innovative-approaches-to-early-caries-management/
CATEGORIES:KYDHA
END:VEVENT
BEGIN:VEVENT
DTSTART;TZID=America/Kentucky/Louisville:20260521T180000
DTEND;TZID=America/Kentucky/Louisville:20260521T190000
DTSTAMP:20260421T000927
CREATED:20260323T154326Z
LAST-MODIFIED:20260323T154326Z
UID:4026-1779386400-1779390000@kydha.org
SUMMARY:Medical Emergencies for the Dental Hygienist
DESCRIPTION:May 21\, 2026 at 6:00 pm est\n \nMedical Emergencies for the Dental Hygienist via ZOOM! This course meets the Kentucky Board of Dentistry requirements for Dental Hygiene General Supervision license. The course is limited to the first 100 registrants and is a 3 hour course.\n \nhttps://cvent.me/1o54M9
URL:https://kydha.org/event/medical-emergencies-for-the-dental-hygienist-2/
CATEGORIES:KYDHA
END:VEVENT
BEGIN:VEVENT
DTSTART;TZID=America/Kentucky/Louisville:20260523T090000
DTEND;TZID=America/Kentucky/Louisville:20260523T100000
DTSTAMP:20260421T000927
CREATED:20260324T152749Z
LAST-MODIFIED:20260324T152749Z
UID:4138-1779526800-1779530400@kydha.org
SUMMARY:May 23\, 2026 - Board Meeting
DESCRIPTION:Saturday\, May 23\, 2026 at 9:00 am est (ZOOM or Teams)
URL:https://kydha.org/event/may-23-2026-board-meeting/
CATEGORIES:KYDHA
END:VEVENT
BEGIN:VEVENT
DTSTART;TZID=America/Kentucky/Louisville:20260822T090000
DTEND;TZID=America/Kentucky/Louisville:20260822T100000
DTSTAMP:20260421T000927
CREATED:20260324T152840Z
LAST-MODIFIED:20260324T152840Z
UID:4140-1787389200-1787392800@kydha.org
SUMMARY:August 22\, 2026 - Board Meeting
DESCRIPTION:Saturday\, August 22\, 2026 at 9:00 am est (ZOOM or Teams)
URL:https://kydha.org/event/august-22-2026-board-meeting/
CATEGORIES:KYDHA
END:VEVENT
BEGIN:VEVENT
DTSTART;TZID=America/Kentucky/Louisville:20261121T090000
DTEND;TZID=America/Kentucky/Louisville:20261121T100000
DTSTAMP:20260421T000927
CREATED:20260324T152941Z
LAST-MODIFIED:20260324T152941Z
UID:4142-1795251600-1795255200@kydha.org
SUMMARY:November 21\, 2026 - Board Meeting
DESCRIPTION:Saturday\, November 21\, 2026 at 9:00 am est (ZOOM or Teams)
URL:https://kydha.org/event/november-21-2026-board-meeting/
CATEGORIES:KYDHA
END:VEVENT
BEGIN:VEVENT
DTSTART;TZID=America/Kentucky/Louisville:20270116T090000
DTEND;TZID=America/Kentucky/Louisville:20270116T100000
DTSTAMP:20260421T000927
CREATED:20260324T153027Z
LAST-MODIFIED:20260324T153027Z
UID:4144-1800090000-1800093600@kydha.org
SUMMARY:January 16\, 2027 - Board Meeting
DESCRIPTION:Saturday\, January 16\, 2027 at 9:00 am est (ZOOM or Teams)
URL:https://kydha.org/event/january-16-2027-board-meeting/
CATEGORIES:KYDHA
END:VEVENT
BEGIN:VEVENT
DTSTART;TZID=America/Kentucky/Louisville:20270324T090000
DTEND;TZID=America/Kentucky/Louisville:20270324T100000
DTSTAMP:20260421T000927
CREATED:20260324T153107Z
LAST-MODIFIED:20260324T154202Z
UID:4146-1805878800-1805882400@kydha.org
SUMMARY:March 4\, 2027 - Board Meeting
DESCRIPTION:Thursday\, March 4\, 2027 at 7:00 pm est in person
URL:https://kydha.org/event/march-4-2027-board-meeting/
CATEGORIES:KYDHA
END:VEVENT
END:VCALENDAR