BEGIN:VCALENDAR
VERSION:2.0
PRODID:-//KYDHA - ECPv6.15.17.1//NONSGML v1.0//EN
CALSCALE:GREGORIAN
METHOD:PUBLISH
X-WR-CALNAME:KYDHA
X-ORIGINAL-URL:https://kydha.org
X-WR-CALDESC:Events for KYDHA
REFRESH-INTERVAL;VALUE=DURATION:PT1H
X-Robots-Tag:noindex
X-PUBLISHED-TTL:PT1H
BEGIN:VTIMEZONE
TZID:America/Kentucky/Louisville
BEGIN:DAYLIGHT
TZOFFSETFROM:-0500
TZOFFSETTO:-0400
TZNAME:EDT
DTSTART:20240310T070000
END:DAYLIGHT
BEGIN:STANDARD
TZOFFSETFROM:-0400
TZOFFSETTO:-0500
TZNAME:EST
DTSTART:20241103T060000
END:STANDARD
BEGIN:DAYLIGHT
TZOFFSETFROM:-0500
TZOFFSETTO:-0400
TZNAME:EDT
DTSTART:20250309T070000
END:DAYLIGHT
BEGIN:STANDARD
TZOFFSETFROM:-0400
TZOFFSETTO:-0500
TZNAME:EST
DTSTART:20251102T060000
END:STANDARD
BEGIN:DAYLIGHT
TZOFFSETFROM:-0500
TZOFFSETTO:-0400
TZNAME:EDT
DTSTART:20260308T070000
END:DAYLIGHT
BEGIN:STANDARD
TZOFFSETFROM:-0400
TZOFFSETTO:-0500
TZNAME:EST
DTSTART:20261101T060000
END:STANDARD
BEGIN:DAYLIGHT
TZOFFSETFROM:-0500
TZOFFSETTO:-0400
TZNAME:EDT
DTSTART:20270314T070000
END:DAYLIGHT
BEGIN:STANDARD
TZOFFSETFROM:-0400
TZOFFSETTO:-0500
TZNAME:EST
DTSTART:20271107T060000
END:STANDARD
END:VTIMEZONE
BEGIN:VTIMEZONE
TZID:UTC
BEGIN:STANDARD
TZOFFSETFROM:+0000
TZOFFSETTO:+0000
TZNAME:UTC
DTSTART:20220101T000000
END:STANDARD
END:VTIMEZONE
BEGIN:VEVENT
DTSTART;TZID=America/Kentucky/Louisville:20260227T080000
DTEND;TZID=America/Kentucky/Louisville:20260227T170000
DTSTAMP:20260420T150005
CREATED:20250528T115033Z
LAST-MODIFIED:20260113T140726Z
UID:3989-1772179200-1772211600@kydha.org
SUMMARY:KYDHA 2026 Advancing Lifelong Learning Conference
DESCRIPTION:The Kentucky Dental Hygienists’ Association (KYDHA) invites you to join us at the 2026 KYDHA Advancing Lifelong Learning Conference.  Enjoy our annual conference at a familiar location Hilton Garden Inn/Airport\, Louisville\, KY.  Take advantage of the new formatted ONE day event!!\n \nDental Hygienists’ and other professionals are welcome and encouraged to attend.\n \n\nREGISTRATION FEES & DEADLINES\n \nEarly Bird Registration by Dec. 31\, 2025                                                      \n\nMembers – Free\nNon-Members – $25.00\nStudents – Free\n\nAdvance Registration Jan. 1 – Feb. 20\, 2026\n\nMembers – $ 25.00\nNon-Members – $50.00\nStudents – Free\n\nOn-Site Registration after Feb. 20\, 2026\n\nMembers – $ 50.00\nNon-Members – $100.00\nStudents – Free\n\n\n \n\nFebruary 27\, 2026\nHilton Garden Inn Louisville Airport\nKYDHA 2026 Advancing Lifelong Learning Conference\n\nClick to register >> https://cvent.me/ydRPVm\n\n \n\nClick the link below for the block of rooms\nKY Dental Hygienist Association
URL:https://kydha.org/event/kydha-2026-advancing-lifelong-learning-conference/
CATEGORIES:Eastern,KYDHA,Louisville,Western
END:VEVENT
BEGIN:VEVENT
DTSTART;TZID=America/Kentucky/Louisville:20250619T173000
DTEND;TZID=America/Kentucky/Louisville:20250619T183000
DTSTAMP:20260420T150005
CREATED:20250528T114845Z
LAST-MODIFIED:20250528T114845Z
UID:3987-1750354200-1750357800@kydha.org
SUMMARY:RDH Career Forum - Great Conversations
DESCRIPTION:> Date: Thursday\, June 19th\, 2025 at 5:30pm\n> Location: Rooster’s\, 10430 Shelbyville Road\, Louisville\, KY 40223 \n> Course Description: After dinner we will have a short business meeting. We will be hearing from two KY Hygienists who took a path during their careers that led to non-profit and educational fields. They will provide insight into moments of enlightenment\, decision making\, professional development\, having to navigate change and where they are today.\n                                       \n> Learning Objectives: Identifying core competencies needed to create a roadmap for professional development; applying skills in real-world context and how to support a culture of lifelong learning. \n> Speaker Name and Bio: \n> 1) Lisa Johnston Arthur\, RDH  graduated from Lexington Technical College\, past chair of the Bluegrass Component\, Past President of the KYDHA and currently serves on the Kentucky Board of Dentistry\n                                         \n 2) Heather Cheek\, CDA\, B.Ed\, AS\, RDH\, M.Ed. graduated EKU in Education\, and Big Sandy Community and Technical College for her Dental Hygiene\, received her Masters in Education from EKU and serves as the BSCTC    Dental Hygiene\,      Community Dental Health Coordinator/Instructor. \n> Cost for course for a member: $20 and nonmember $30\, Dinner on your own.
URL:https://kydha.org/event/rdh-career-forum-great-conversations/
CATEGORIES:KYDHA,Louisville
END:VEVENT
BEGIN:VEVENT
DTSTART;TZID=UTC:20230420T173000
DTEND;TZID=UTC:20230420T200000
DTSTAMP:20260420T150005
CREATED:20230208T150039Z
LAST-MODIFIED:20230412T112915Z
UID:3790-1682011800-1682020800@kydha.org
SUMMARY:Clinical Pathology Conference: Oral Infectious Disease
DESCRIPTION:Description:  A series of five patterns of clinical presentation is offered\, with cases obtained from the files of a clinical oral and maxillofacial pathology practice. Each case illustrates a major pattern of clinical disease presentation. Course participants are provided the opportunity to participate through generation of clinical differential diagnoses. An analysis of each pattern of clinical presentation is offered by the instructor\, with delineation of appropriate avenues for patient testing and collection of data. The diagnosis for each case is presented\, with a description of case management and follow-up information. \nCourse Objectives \nUpon completion of the course\, participants will be prepared to: \n1. recognize herpetiform\, desquamative\, locally destructive\, commissural  inflammatory\, and clinically atypical patterns of infectious disease presentation. \n2.  generate useful differential diagnoses relevant to each of the patterns listed in  objective 1. \n3.  recommend additional patient evaluation and testing helpful is establishment of a definitive diagnosis. \nMembers:  $20.00 \nNon Members:  $50.00 \nStudents:  Free \nRegistration:  https://cvent.me/x3yDn2
URL:https://kydha.org/event/clinical-pathology-conference-oral-infectious-disease/
CATEGORIES:KYDHA,Louisville
END:VEVENT
BEGIN:VEVENT
DTSTART;TZID=UTC:20230216T173000
DTEND;TZID=UTC:20230216T200000
DTSTAMP:20260420T150005
CREATED:20230208T145054Z
LAST-MODIFIED:20230208T145850Z
UID:3780-1676568600-1676577600@kydha.org
SUMMARY:CE Course
DESCRIPTION:5:30 – 6:00 pm\nRegistration\n\n\n6:00 – 8:00\nCE Course TBD
URL:https://kydha.org/event/ce-course/
CATEGORIES:Louisville
END:VEVENT
END:VCALENDAR