BEGIN:VCALENDAR
VERSION:2.0
PRODID:-//KYDHA - ECPv6.15.17.1//NONSGML v1.0//EN
CALSCALE:GREGORIAN
METHOD:PUBLISH
X-WR-CALNAME:KYDHA
X-ORIGINAL-URL:https://kydha.org
X-WR-CALDESC:Events for KYDHA
REFRESH-INTERVAL;VALUE=DURATION:PT1H
X-Robots-Tag:noindex
X-PUBLISHED-TTL:PT1H
BEGIN:VTIMEZONE
TZID:UTC
BEGIN:STANDARD
TZOFFSETFROM:+0000
TZOFFSETTO:+0000
TZNAME:UTC
DTSTART:20220101T000000
END:STANDARD
END:VTIMEZONE
BEGIN:VEVENT
DTSTART;TZID=UTC:20230324T080000
DTEND;TZID=UTC:20230324T160000
DTSTAMP:20260420T173527
CREATED:20230208T145813Z
LAST-MODIFIED:20230208T145813Z
UID:3783-1679644800-1679673600@kydha.org
SUMMARY:Advancing Lifelong Learning
DESCRIPTION:8:00 – 9:00 am\nContinental Breakfast and Product Presentation\n\n\n9:00 – 12:00\nHouse of Delegates\n\n\n9:00 – 12:00 pm\nPeriodontal Considerations for the Dental Hygienist\, Speaker: Dr. Don Kohut\n\n\n12:00 – 2:00 pm\nLunch and Learn  Guided Biofilm Therapy Speaker:  Kateland Kiefer\n\n\n2:00 – 5:00 pm\nPeriodontal Considerations for the Dental Hygienist\, Speaker: Dr. Don Kohut\n\n\n2:00 – 4:00 pm\nAmerican Heart Association CPR
URL:https://kydha.org/event/advancing-lifelong-learning/
CATEGORIES:KYDHA
END:VEVENT
END:VCALENDAR