BEGIN:VCALENDAR
VERSION:2.0
PRODID:-//KYDHA - ECPv6.15.17.1//NONSGML v1.0//EN
CALSCALE:GREGORIAN
METHOD:PUBLISH
X-WR-CALNAME:KYDHA
X-ORIGINAL-URL:https://kydha.org
X-WR-CALDESC:Events for KYDHA
REFRESH-INTERVAL;VALUE=DURATION:PT1H
X-Robots-Tag:noindex
X-PUBLISHED-TTL:PT1H
BEGIN:VTIMEZONE
TZID:UTC
BEGIN:STANDARD
TZOFFSETFROM:+0000
TZOFFSETTO:+0000
TZNAME:UTC
DTSTART:20220101T000000
END:STANDARD
END:VTIMEZONE
BEGIN:VEVENT
DTSTART;TZID=UTC:20230518T080000
DTEND;TZID=UTC:20230518T170000
DTSTAMP:20260423T021422
CREATED:20230208T150138Z
LAST-MODIFIED:20230208T150138Z
UID:3794-1684396800-1684429200@kydha.org
SUMMARY:Zoom CE Course
DESCRIPTION:6:00 – 8:00 pm\nMedical Emergencies\, Speaker Dr. Rebecca Mercke
URL:https://kydha.org/event/zoom-ce-course-2/
CATEGORIES:KYDHA
END:VEVENT
END:VCALENDAR